BEGIN:VCALENDAR
VERSION:2.0
PRODID:iCalendar-Evo
X-WR-TIMEZONE:US/Eastern
BEGIN:VEVENT
DTSTAMP:20260425THI4831Z
URL:https://www.shepherdstown.gov/events/41001/
DTSTART;TZID=US/Eastern:20260615T180000
SUMMARY:Planning Commission
DESCRIPTION:
UID:2f878398-4e53-4e02-9ca6-433b956400b020260615T220000@www.shepherdstown.gov
END:VEVENT
END:VCALENDAR